BEGIN:VCALENDAR
VERSION:2.0
PRODID:-//85.13.150.74//NONSGML kigkonsult.se iCalcreator 2.20//
CALSCALE:GREGORIAN
METHOD:PUBLISH
X-WR-TIMEZONE:UTC
BEGIN:VEVENT
UID:event20486@FFM ROCK REVISITED
DTSTAMP:20260422T150230Z
CATEGORIES:Konzert-Tour
DESCRIPTION:INTRONAUT\nKategorie: Konzert-Tour\nICS-Link: https://www.ffm-r
 ock.de/index.php?option=com_jem&view=event&id=20486:intronaut\n
DTSTART;VALUE=DATE:20131209
DTEND;VALUE=DATE:20131210
LOCATION:Elfer Music Club\,Klappergasse 5-7\,60594  Frankfurt am Main
SUMMARY:INTRONAUT
URL:https://www.ffm-rock.de/index.php?option=com_jem&view=event&id=20486:in
 tronaut
END:VEVENT
END:VCALENDAR
