BEGIN:VCALENDAR
VERSION:2.0
PRODID:-//85.13.150.74//NONSGML kigkonsult.se iCalcreator 2.20//
CALSCALE:GREGORIAN
METHOD:PUBLISH
X-WR-TIMEZONE:UTC
BEGIN:VEVENT
UID:event20494@FFM ROCK REVISITED
DTSTAMP:20260419T184944Z
CATEGORIES:DJ Party
DESCRIPTION:THE ZOO\nKategorie: DJ Party\nICS-Link: https://www.ffm-rock.de
 /index.php?option=com_jem&view=event&id=20494:the-zoo\n
DTSTART;VALUE=DATE:20140103
DTEND;VALUE=DATE:20140104
LOCATION:Batschkapp\,Gwinnerstraße 5\,60388 Frankfurt am Main
SUMMARY:THE ZOO
URL:https://www.ffm-rock.de/index.php?option=com_jem&view=event&id=20494:th
 e-zoo
END:VEVENT
END:VCALENDAR
