BEGIN:VCALENDAR
VERSION:2.0
PRODID:-//85.13.150.74//NONSGML kigkonsult.se iCalcreator 2.20//
CALSCALE:GREGORIAN
METHOD:PUBLISH
X-WR-TIMEZONE:UTC
BEGIN:VEVENT
UID:event20495@FFM ROCK REVISITED
DTSTAMP:20260423T070307Z
CATEGORIES:DJ Party
DESCRIPTION:ALLES 90ER\nKategorie: DJ Party\nICS-Link: https://www.ffm-rock
 .de/index.php?option=com_jem&view=event&id=20495:alles-90er\n
DTSTART;VALUE=DATE:20140104
DTEND;VALUE=DATE:20140105
LOCATION:Batschkapp\,Gwinnerstraße 5\,60388 Frankfurt am Main
SUMMARY:ALLES 90ER
URL:https://www.ffm-rock.de/index.php?option=com_jem&view=event&id=20495:al
 les-90er
END:VEVENT
END:VCALENDAR
