BEGIN:VCALENDAR
VERSION:2.0
PRODID:-//85.13.150.74//NONSGML kigkonsult.se iCalcreator 2.20//
CALSCALE:GREGORIAN
METHOD:PUBLISH
X-WR-TIMEZONE:UTC
BEGIN:VEVENT
UID:event20507@FFM ROCK REVISITED
DTSTAMP:20260424T194259Z
CATEGORIES:Konzert-Tour
DESCRIPTION:TOM ODELL - verlegt in die Stadthalle Offenbach!\nKategorie: Ko
 nzert-Tour\nICS-Link: https://www.ffm-rock.de/index.php?option=com_jem&vie
 w=event&id=20507:tom-odell\n
DTSTART;VALUE=DATE:20140305
DTEND;VALUE=DATE:20140306
LOCATION:Stadthalle Offenbach\,Waldstraße 312\,63071 Offenbach am Main
SUMMARY:TOM ODELL - verlegt in die Stadthalle Offenbach!
URL:https://www.ffm-rock.de/index.php?option=com_jem&view=event&id=20507:to
 m-odell
END:VEVENT
END:VCALENDAR
