BEGIN:VCALENDAR
VERSION:2.0
PRODID:-//85.13.150.74//NONSGML kigkonsult.se iCalcreator 2.20//
CALSCALE:GREGORIAN
METHOD:PUBLISH
X-WR-TIMEZONE:UTC
BEGIN:VEVENT
UID:event20558@FFM ROCK REVISITED
DTSTAMP:20260425T104905Z
CATEGORIES:Cover / Tribute
DESCRIPTION:STONE FREE + METAL ATTACK\nKategorie: Cover / Tribute\nICS-Link
 : https://www.ffm-rock.de/index.php?option=com_jem&view=event&id=20558:sto
 ne-free-metal-attack\n
DTSTART;VALUE=DATE:20131214
DTEND;VALUE=DATE:20131215
LOCATION:Stattbahnhof\,Alte Bahnhofstraße 8-12\,97424 Schweinfurt
SUMMARY:STONE FREE + METAL ATTACK
URL:https://www.ffm-rock.de/index.php?option=com_jem&view=event&id=20558:st
 one-free-metal-attack
END:VEVENT
END:VCALENDAR
