BEGIN:VCALENDAR
VERSION:2.0
PRODID:-//85.13.150.74//NONSGML kigkonsult.se iCalcreator 2.20//
CALSCALE:GREGORIAN
METHOD:PUBLISH
X-WR-TIMEZONE:UTC
BEGIN:VEVENT
UID:event20911@FFM ROCK REVISITED
DTSTAMP:20260420T140048Z
CATEGORIES:Konzert-Tour
DESCRIPTION:CAULDRON + VOLTURE\nKategorie: Konzert-Tour\nICS-Link: https://
 www.ffm-rock.de/index.php?option=com_jem&view=event&id=20911:cauldron-volt
 ure\n
DTSTART;VALUE=DATE:20140319
DTEND;VALUE=DATE:20140320
LOCATION:Cassiopeia\,Revaler Straße 99\,10245 Berlin - Friedrichshain
SUMMARY:CAULDRON + VOLTURE
URL:https://www.ffm-rock.de/index.php?option=com_jem&view=event&id=20911:ca
 uldron-volture
END:VEVENT
END:VCALENDAR
