BEGIN:VCALENDAR
VERSION:2.0
PRODID:-//85.13.150.74//NONSGML kigkonsult.se iCalcreator 2.20//
CALSCALE:GREGORIAN
METHOD:PUBLISH
X-WR-TIMEZONE:UTC
BEGIN:VEVENT
UID:event24597@FFM ROCK REVISITED
DTSTAMP:20260422T204418Z
CATEGORIES:Konzert-Tour
DESCRIPTION:TOSELAND - abgesagt!\nKategorie: Konzert-Tour\nICS-Link: https:
 //www.ffm-rock.de/index.php?option=com_jem&view=event&id=24597:toseland\n
DTSTART;VALUE=DATE:20161023
DTEND;VALUE=DATE:20161024
LOCATION:MTC\,Zülpicher Straße 10\,50674 Köln
SUMMARY:TOSELAND - abgesagt!
URL:https://www.ffm-rock.de/index.php?option=com_jem&view=event&id=24597:to
 seland
END:VEVENT
END:VCALENDAR
