BEGIN:VCALENDAR
VERSION:2.0
PRODID:-//85.13.150.74//NONSGML kigkonsult.se iCalcreator 2.20//
CALSCALE:GREGORIAN
METHOD:PUBLISH
X-WR-TIMEZONE:UTC
BEGIN:VEVENT
UID:event25002@FFM ROCK REVISITED
DTSTAMP:20260425T112701Z
CATEGORIES:Konzert-Tour
DESCRIPTION:DARKEST HOUR\nKategorie: Konzert-Tour\nICS-Link: https://www.ff
 m-rock.de/index.php?option=com_jem&view=event&id=25002:darkest-hour\n
DTSTART;VALUE=DATE:20170508
DTEND;VALUE=DATE:20170509
LOCATION:Cassiopeia\,Revaler Straße 99\,10245 Berlin - Friedrichshain
SUMMARY:DARKEST HOUR
URL:https://www.ffm-rock.de/index.php?option=com_jem&view=event&id=25002:da
 rkest-hour
END:VEVENT
END:VCALENDAR
