BEGIN:VCALENDAR
VERSION:2.0
PRODID:-//85.13.150.74//NONSGML kigkonsult.se iCalcreator 2.20//
CALSCALE:GREGORIAN
METHOD:PUBLISH
X-WR-TIMEZONE:UTC
BEGIN:VEVENT
UID:event25101@FFM ROCK REVISITED
DTSTAMP:20260425T182414Z
CATEGORIES:Festival
DESCRIPTION:15. METAL BASH FESTIVAL\nKategorie: Festival\nICS-Link: https:/
 /www.ffm-rock.de/index.php?option=com_jem&view=event&id=25101:15-metal-bas
 h-festival\n
DTSTART;VALUE=DATE:20170513
DTEND;VALUE=DATE:20170514
LOCATION:Schießsportanlage in Neu Wulmstorf\,Ortsbeschilderung\,21629 Neu W
 ulmstorf
SUMMARY:15. METAL BASH FESTIVAL
URL:https://www.ffm-rock.de/index.php?option=com_jem&view=event&id=25101:15
 -metal-bash-festival
END:VEVENT
END:VCALENDAR
