BEGIN:VCALENDAR
VERSION:2.0
PRODID:-//85.13.150.74//NONSGML kigkonsult.se iCalcreator 2.20//
CALSCALE:GREGORIAN
METHOD:PUBLISH
X-WR-TIMEZONE:UTC
BEGIN:VEVENT
UID:event25121@FFM ROCK REVISITED
DTSTAMP:20260425T144123Z
CATEGORIES:FFM-ROCK präsentiert
DESCRIPTION:MAX & IGGOR CAVALERA\nKategorie: FFM-ROCK präsentiert\nICS-Link
 : https://www.ffm-rock.de/index.php?option=com_jem&view=event&id=25121:max
 -iggor-cavalera\n
DTSTART;VALUE=DATE:20170808
DTEND;VALUE=DATE:20170809
LOCATION:Batschkapp\,Gwinnerstraße 5\,60388 Frankfurt am Main
SUMMARY:MAX & IGGOR CAVALERA
URL:https://www.ffm-rock.de/index.php?option=com_jem&view=event&id=25121:ma
 x-iggor-cavalera
END:VEVENT
END:VCALENDAR
