BEGIN:VCALENDAR
VERSION:2.0
PRODID:-//85.13.150.74//NONSGML kigkonsult.se iCalcreator 2.20//
CALSCALE:GREGORIAN
METHOD:PUBLISH
X-WR-TIMEZONE:UTC
BEGIN:VEVENT
UID:event25149@FFM ROCK REVISITED
DTSTAMP:20260425T130614Z
CATEGORIES:Konzert-Tour
DESCRIPTION:RODGAU MONOTONES\nKategorie: Konzert-Tour\nICS-Link: https://ww
 w.ffm-rock.de/index.php?option=com_jem&view=event&id=25149:rodgau-monotone
 s\n
DTSTART;VALUE=DATE:20171226
DTEND;VALUE=DATE:20171227
LOCATION:Batschkapp\,Gwinnerstraße 5\,60388 Frankfurt am Main
SUMMARY:RODGAU MONOTONES
URL:https://www.ffm-rock.de/index.php?option=com_jem&view=event&id=25149:ro
 dgau-monotones
END:VEVENT
END:VCALENDAR
