BEGIN:VCALENDAR
VERSION:2.0
PRODID:-//85.13.150.74//NONSGML kigkonsult.se iCalcreator 2.20//
CALSCALE:GREGORIAN
METHOD:PUBLISH
X-WR-TIMEZONE:UTC
BEGIN:VEVENT
UID:event25200@FFM ROCK REVISITED
DTSTAMP:20260425T112857Z
CATEGORIES:Festival
DESCRIPTION:CHRISTMAS BASH 2017\nKategorie: Festival\nICS-Link: https://www
 .ffm-rock.de/index.php?option=com_jem&view=event&id=25200:christmas-bash-2
 018\n
DTSTART;VALUE=DATE:20171201
DTEND;VALUE=DATE:20171203
LOCATION:Autohof Strohofer\,Scheinfelder Straße 15-23\,96160 Geiselwind
SUMMARY:CHRISTMAS BASH 2017
URL:https://www.ffm-rock.de/index.php?option=com_jem&view=event&id=25200:ch
 ristmas-bash-2018
END:VEVENT
END:VCALENDAR
