BEGIN:VCALENDAR
VERSION:2.0
PRODID:-//85.13.150.74//NONSGML kigkonsult.se iCalcreator 2.20//
CALSCALE:GREGORIAN
METHOD:PUBLISH
X-WR-TIMEZONE:UTC
BEGIN:VEVENT
UID:event25356@FFM ROCK REVISITED
DTSTAMP:20260425T143004Z
CATEGORIES:Cover / Tribute
DESCRIPTION:FEEL COLLINS\nKategorie: Cover / Tribute\nICS-Link: https://www
 .ffm-rock.de/index.php?option=com_jem&view=event&id=25356:feel-collins\n
DTSTART;VALUE=DATE:20180203
DTEND;VALUE=DATE:20180204
LOCATION:Colos-Saal\,Roßmarkt 19\,63739 Aschaffenburg
SUMMARY:FEEL COLLINS
URL:https://www.ffm-rock.de/index.php?option=com_jem&view=event&id=25356:fe
 el-collins
END:VEVENT
END:VCALENDAR
