BEGIN:VCALENDAR
VERSION:2.0
PRODID:-//85.13.150.74//NONSGML kigkonsult.se iCalcreator 2.20//
CALSCALE:GREGORIAN
METHOD:PUBLISH
X-WR-TIMEZONE:UTC
BEGIN:VEVENT
UID:event25390@FFM ROCK REVISITED
DTSTAMP:20260425T125235Z
CATEGORIES:Cover / Tribute
DESCRIPTION:LIVING THEORY\nKategorie: Cover / Tribute\nICS-Link: https://ww
 w.ffm-rock.de/index.php?option=com_jem&view=event&id=25390:living-theory\n
DTSTART;VALUE=DATE:20180316
DTEND;VALUE=DATE:20180317
LOCATION:Kulturzentrum Schanz\,Carl-Zeiss-Straße 6\,63165 Mühlheim am Main
SUMMARY:LIVING THEORY
URL:https://www.ffm-rock.de/index.php?option=com_jem&view=event&id=25390:li
 ving-theory
END:VEVENT
END:VCALENDAR
