BEGIN:VCALENDAR
VERSION:2.0
PRODID:-//85.13.150.74//NONSGML kigkonsult.se iCalcreator 2.20//
CALSCALE:GREGORIAN
METHOD:PUBLISH
X-WR-TIMEZONE:UTC
BEGIN:VEVENT
UID:event25449@FFM ROCK REVISITED
DTSTAMP:20260425T005551Z
CATEGORIES:Festival
DESCRIPTION:ROCK AM STÜCK\nKategorie: Festival\nICS-Link: https://www.ffm-r
 ock.de/index.php?option=com_jem&view=event&id=25449:rock-am-stueck\n
DTSTART;VALUE=DATE:20180719
DTEND;VALUE=DATE:20180722
LOCATION:Festivalgelände Rock am Stück\,Am Lohrberg\,34560 Fritzlar
SUMMARY:ROCK AM STÜCK
URL:https://www.ffm-rock.de/index.php?option=com_jem&view=event&id=25449:ro
 ck-am-stueck
END:VEVENT
END:VCALENDAR
