BEGIN:VCALENDAR
VERSION:2.0
PRODID:-//85.13.150.74//NONSGML kigkonsult.se iCalcreator 2.20//
CALSCALE:GREGORIAN
METHOD:PUBLISH
X-WR-TIMEZONE:UTC
BEGIN:VEVENT
UID:event25664@FFM ROCK REVISITED
DTSTAMP:20260420T075045Z
CATEGORIES:Konzert-Tour
DESCRIPTION:EAV - ERSTE ALLGEMEINE VERUNSICHERUNG \nKategorie: Konzert-Tour
 \nICS-Link: https://www.ffm-rock.de/index.php?option=com_jem&view=event&id
 =25664:eav-erste-allgemeine-verunsicherung\n
DTSTART;VALUE=DATE:20190721
DTEND;VALUE=DATE:20190722
LOCATION:f.a.n. Frankenstolz Arena\,Seidelstraße 2\,63741 Aschaffenburg
SUMMARY:EAV - ERSTE ALLGEMEINE VERUNSICHERUNG 
URL:https://www.ffm-rock.de/index.php?option=com_jem&view=event&id=25664:ea
 v-erste-allgemeine-verunsicherung
END:VEVENT
END:VCALENDAR
