BEGIN:VCALENDAR
VERSION:2.0
PRODID:-//85.13.150.74//NONSGML kigkonsult.se iCalcreator 2.20//
CALSCALE:GREGORIAN
METHOD:PUBLISH
X-WR-TIMEZONE:UTC
BEGIN:VEVENT
UID:event25858@FFM ROCK REVISITED
DTSTAMP:20260423T001348Z
CATEGORIES:Cover / Tribute
DESCRIPTION:EARLY BIRD\nKategorie: Cover / Tribute\nICS-Link: https://www.f
 fm-rock.de/index.php?option=com_jem&view=event&id=25858:early-bird\n
DTSTART;VALUE=DATE:20190125
DTEND;VALUE=DATE:20190126
LOCATION:Schlosskeller Windecken\,Schlossburgstraße 7\,61130 Nidderau-Winde
 cken
SUMMARY:EARLY BIRD
URL:https://www.ffm-rock.de/index.php?option=com_jem&view=event&id=25858:ea
 rly-bird
END:VEVENT
END:VCALENDAR
