BEGIN:VCALENDAR
VERSION:2.0
PRODID:-//85.13.150.74//NONSGML kigkonsult.se iCalcreator 2.20//
CALSCALE:GREGORIAN
METHOD:PUBLISH
X-WR-TIMEZONE:UTC
BEGIN:VEVENT
UID:event26166@FFM ROCK REVISITED
DTSTAMP:20260419T193515Z
CATEGORIES:FFM-ROCK präsentiert
DESCRIPTION:HEADBANGERS OPEN AIR\nKategorie: FFM-ROCK präsentiert\nICS-Link
 : https://www.ffm-rock.de/index.php?option=com_jem&view=event&id=26166:hea
 dbangers-open-air\n
DTSTART;VALUE=DATE:20190725
DTEND;VALUE=DATE:20190728
SUMMARY:HEADBANGERS OPEN AIR
URL:https://www.ffm-rock.de/index.php?option=com_jem&view=event&id=26166:he
 adbangers-open-air
END:VEVENT
END:VCALENDAR
