BEGIN:VCALENDAR
VERSION:2.0
PRODID:-//85.13.150.74//NONSGML kigkonsult.se iCalcreator 2.20//
CALSCALE:GREGORIAN
METHOD:PUBLISH
X-WR-TIMEZONE:UTC
BEGIN:VEVENT
UID:event26192@FFM ROCK REVISITED
DTSTAMP:20260425T010632Z
CATEGORIES:Party
DESCRIPTION:Sommerfest mit EVE\nKategorie: Party\nICS-Link: https://www.ffm
 -rock.de/index.php?option=com_jem&view=event&id=26192:sommerfest-mit-eve\n
DTSTART;VALUE=DATE:20190817
DTEND;VALUE=DATE:20190818
LOCATION:Eventwerkstatt Wetzlar\,Dillfeld 3\,35576 Wetzlar
SUMMARY:Sommerfest mit EVE
URL:https://www.ffm-rock.de/index.php?option=com_jem&view=event&id=26192:so
 mmerfest-mit-eve
END:VEVENT
END:VCALENDAR
