BEGIN:VCALENDAR
VERSION:2.0
PRODID:-//85.13.150.74//NONSGML kigkonsult.se iCalcreator 2.20//
CALSCALE:GREGORIAN
METHOD:PUBLISH
X-WR-TIMEZONE:UTC
BEGIN:VEVENT
UID:event26240@FFM ROCK REVISITED
DTSTAMP:20260419T225424Z
CATEGORIES:Konzert-Tour
DESCRIPTION:ALEX FRANCIS\nKategorie: Konzert-Tour\nICS-Link: https://www.ff
 m-rock.de/index.php?option=com_jem&view=event&id=26240:alex-francis\n
DTSTART;VALUE=DATE:20190918
DTEND;VALUE=DATE:20190919
LOCATION:Helios 37\,Heliosstraße 37\,50825 Köln
SUMMARY:ALEX FRANCIS
URL:https://www.ffm-rock.de/index.php?option=com_jem&view=event&id=26240:al
 ex-francis
END:VEVENT
END:VCALENDAR
