BEGIN:VCALENDAR
VERSION:2.0
PRODID:-//85.13.150.74//NONSGML kigkonsult.se iCalcreator 2.20//
CALSCALE:GREGORIAN
METHOD:PUBLISH
X-WR-TIMEZONE:UTC
BEGIN:VEVENT
UID:event26252@FFM ROCK REVISITED
DTSTAMP:20260424T125754Z
CATEGORIES:Konzert-Tour
DESCRIPTION:JOHN DIVA & THE ROCKETS OF LOVE\nKategorie: Konzert-Tour\nICS-L
 ink: https://www.ffm-rock.de/index.php?option=com_jem&view=event&id=26252:
 john-diva-the-rockets-of-love\n
DTSTART;VALUE=DATE:20191031
DTEND;VALUE=DATE:20191101
LOCATION:Hirsch\,Vogelweiherstraße 66\,90441 Nürnberg
SUMMARY:JOHN DIVA & THE ROCKETS OF LOVE
URL:https://www.ffm-rock.de/index.php?option=com_jem&view=event&id=26252:jo
 hn-diva-the-rockets-of-love
END:VEVENT
END:VCALENDAR
