BEGIN:VCALENDAR
VERSION:2.0
PRODID:-//85.13.150.74//NONSGML kigkonsult.se iCalcreator 2.20//
CALSCALE:GREGORIAN
METHOD:PUBLISH
X-WR-TIMEZONE:UTC
BEGIN:VEVENT
UID:event26458@FFM ROCK REVISITED
DTSTAMP:20260419T150253Z
CATEGORIES:Cover / Tribute
DESCRIPTION:BOUNCE\nKategorie: Cover / Tribute\nICS-Link: https://www.ffm-r
 ock.de/index.php?option=com_jem&view=event&id=26458:bounce\n
DTSTART;VALUE=DATE:20191122
DTEND;VALUE=DATE:20191123
LOCATION:Vogelsberger Hof\,Frankfurter Str. 19\,36355 Grebenhain-Crainfeld
SUMMARY:BOUNCE
URL:https://www.ffm-rock.de/index.php?option=com_jem&view=event&id=26458:bo
 unce
END:VEVENT
END:VCALENDAR
