BEGIN:VCALENDAR
VERSION:2.0
PRODID:-//85.13.150.74//NONSGML kigkonsult.se iCalcreator 2.20//
CALSCALE:GREGORIAN
METHOD:PUBLISH
X-WR-TIMEZONE:UTC
BEGIN:VEVENT
UID:event18427@FFM ROCK REVISITED
DTSTAMP:20260420T081451Z
CATEGORIES:Konzert-Tour
DESCRIPTION:BETONTOD + THE OTHER\nKategorie: Konzert-Tour\nICS-Link: https:
 //www.ffm-rock.de/index.php?option=com_jem&view=event&id=18427:betontod-th
 e-other\n
DTSTART;VALUE=DATE:20130119
DTEND;VALUE=DATE:20130120
LOCATION:Dynamo Werk 21\,Wasserwerkstrasse 21\,8006 Zürich
SUMMARY:BETONTOD + THE OTHER
URL:https://www.ffm-rock.de/index.php?option=com_jem&view=event&id=18427:be
 tontod-the-other
END:VEVENT
END:VCALENDAR
