BEGIN:VCALENDAR
VERSION:2.0
PRODID:-//85.13.150.74//NONSGML kigkonsult.se iCalcreator 2.20//
CALSCALE:GREGORIAN
METHOD:PUBLISH
X-WR-TIMEZONE:UTC
BEGIN:VEVENT
UID:event25533@FFM ROCK REVISITED
DTSTAMP:20260419T214647Z
CATEGORIES:Konzert-Tour
DESCRIPTION:DON BROCO\nKategorie: Konzert-Tour\nICS-Link: https://www.ffm-r
 ock.de/index.php?option=com_jem&view=event&id=25533:don-broco\n
DTSTART;VALUE=DATE:20180531
DTEND;VALUE=DATE:20180601
LOCATION:Feierwerk München -  Hansa 39\,Hansastr. 39 - 41\,81373 München
SUMMARY:DON BROCO
URL:https://www.ffm-rock.de/index.php?option=com_jem&view=event&id=25533:do
 n-broco
END:VEVENT
END:VCALENDAR
